BEGIN:VCALENDAR
VERSION:2.0
PRODID:-//Tukios.com/
BEGIN:VEVENT
UID:b0892f4d-13f2-496f-a0d7-13ad9f4986dd@www.dialanddudleyfuneralhome.com
DTSTAMP:20260424T235948Z
DTSTART:20260508T150000Z
DTEND:20260508T160000Z
SUMMARY:Celebration of Life
DESCRIPTION:
URL:https://www.dialanddudleyfuneralhome.com/obituaries/gracie-roark
LOCATION:Dial and Dudley Funeral Home 4212 AR-5  Bryant AR 72022
GEO:34.6181995;-92.5098579
END:VEVENT
END:VCALENDAR